BEGIN:VCALENDAR
VERSION:2.0
PRODID:-//Great Cransley Parish Council//Meeting Calendar//EN
CALSCALE:GREGORIAN
METHOD:PUBLISH
BEGIN:VEVENT
UID:70997-20260212@greatcransleyparishcouncil.gov.uk
DTSTAMP:20260419T122539Z
DTSTART;VALUE=DATE:20260212
DTEND;VALUE=DATE:20260213
SUMMARY:Parish Council meeting 12 February 2026
DESCRIPTION:Full Council Meeting\nView details: https://greatcransleyparishcouncil.gov.uk/meetings/parish-council-meeting-12-february-2026/
URL:https://greatcransleyparishcouncil.gov.uk/meetings/parish-council-meeting-12-february-2026/
END:VEVENT
END:VCALENDAR
