BEGIN:VCALENDAR
VERSION:2.0
PRODID:-//Great Cransley Parish Council//Meeting Calendar//EN
CALSCALE:GREGORIAN
METHOD:PUBLISH
BEGIN:VEVENT
UID:70899-20250612@greatcransleyparishcouncil.gov.uk
DTSTAMP:20260419T185109Z
DTSTART;VALUE=DATE:20250612
DTEND;VALUE=DATE:20250613
SUMMARY:Parish Council meeting 12 June 2025
DESCRIPTION:Full Council Meeting\nView details: https://greatcransleyparishcouncil.gov.uk/meetings/parish-council-meeting-12-june-2025/
URL:https://greatcransleyparishcouncil.gov.uk/meetings/parish-council-meeting-12-june-2025/
END:VEVENT
END:VCALENDAR
