BEGIN:VCALENDAR
VERSION:2.0
PRODID:-//Great Cransley Parish Council//Meeting Calendar//EN
CALSCALE:GREGORIAN
METHOD:PUBLISH
BEGIN:VEVENT
UID:70867-20250410@greatcransleyparishcouncil.gov.uk
DTSTAMP:20260419T203834Z
DTSTART;VALUE=DATE:20250410
DTEND;VALUE=DATE:20250411
SUMMARY:Parish Council meeting 10 April 2025
DESCRIPTION:Full Council Meeting\nView details: https://greatcransleyparishcouncil.gov.uk/meetings/parish-council-meeting-10-april-2025/
URL:https://greatcransleyparishcouncil.gov.uk/meetings/parish-council-meeting-10-april-2025/
END:VEVENT
END:VCALENDAR
