BEGIN:VCALENDAR
VERSION:2.0
PRODID:-//Great Cransley Parish Council//Meeting Calendar//EN
CALSCALE:GREGORIAN
METHOD:PUBLISH
BEGIN:VEVENT
UID:70838-20250213@greatcransleyparishcouncil.gov.uk
DTSTAMP:20260419T202742Z
DTSTART;VALUE=DATE:20250213
DTEND;VALUE=DATE:20250214
SUMMARY:Parish Council meeting -13 February 2025
DESCRIPTION:Full Council Meeting\nView details: https://greatcransleyparishcouncil.gov.uk/meetings/parish-council-meeting-13-february-2025/
URL:https://greatcransleyparishcouncil.gov.uk/meetings/parish-council-meeting-13-february-2025/
END:VEVENT
END:VCALENDAR
