BEGIN:VCALENDAR
VERSION:2.0
PRODID:-//Great Cransley Parish Council//Meeting Calendar//EN
CALSCALE:GREGORIAN
METHOD:PUBLISH
BEGIN:VEVENT
UID:70608-20200101@greatcransleyparishcouncil.gov.uk
DTSTAMP:20260419T171340Z
DTSTART;VALUE=DATE:20200101
DTEND;VALUE=DATE:20200102
SUMMARY:Full Council Meetings &#8211\\; 2020
DESCRIPTION:Full Council Meeting\nView details: https://greatcransleyparishcouncil.gov.uk/meetings/full-council-meetings-2020/
URL:https://greatcransleyparishcouncil.gov.uk/meetings/full-council-meetings-2020/
END:VEVENT
END:VCALENDAR
