BEGIN:VCALENDAR
VERSION:2.0
PRODID:-//Great Cransley Parish Council//Meeting Calendar//EN
CALSCALE:GREGORIAN
METHOD:PUBLISH
BEGIN:VEVENT
UID:70445-20240411@greatcransleyparishcouncil.gov.uk
DTSTAMP:20260422T083204Z
DTSTART;VALUE=DATE:20240411
DTEND;VALUE=DATE:20240412
SUMMARY:Full Council Meeting &#8211\\; 11 April 2024
DESCRIPTION:Full Council Meeting\nView details: https://greatcransleyparishcouncil.gov.uk/meetings/full-council-meeting-11-april-2024/
URL:https://greatcransleyparishcouncil.gov.uk/meetings/full-council-meeting-11-april-2024/
END:VEVENT
END:VCALENDAR
